BEGIN:VCALENDAR
VERSION:2.0
CALSCALE:GREGORIAN
METHOD:PUBLISH
X-WR-TIMEZONE:UTC
BEGIN:VEVENT
SUMMARY:Presentació de llibres- Santa Jordina
DTSTART:20260427T150000Z
DTEND:20260427T170000Z
DTSTAMP:20260424T014137Z
UID:https://entradas.biocultura.org/presentaciodellibressantajordina
CATEGORIES:
DESCRIPTION:https://entradas.biocultura.org/presentaciodellibressantajordi
 na
GEO:0.0;0.0
LOCATION:Edifici Media-TIC / Espai LIDERA Carrer de Roc Boronat\, 117–12
 7\, 08018\, Barcelona\, ES
URL:https://entradas.biocultura.org/presentaciodellibressantajordina
END:VEVENT
END:VCALENDAR
