BEGIN:VCALENDAR
VERSION:2.0
CALSCALE:GREGORIAN
METHOD:PUBLISH
X-WR-TIMEZONE:UTC
BEGIN:VEVENT
SUMMARY:Entrega de premios europeos
DTSTART:20260514T163000Z
DTEND:20260514T181500Z
DTSTAMP:20260422T023445Z
UID:https://entradas.biocultura.org/lliuramentdepremiseuropeus
CATEGORIES:
DESCRIPTION:https://entradas.biocultura.org/lliuramentdepremiseuropeus
GEO:0.0;0.0
LOCATION:Biblioteca Jaume Fuster Pl. de Lesseps\, 20\, Gràcia\, 08023 Bar
 celona\, 08023\, Barcelona\, ES
URL:https://entradas.biocultura.org/lliuramentdepremiseuropeus
END:VEVENT
END:VCALENDAR
