BEGIN:VCALENDAR
VERSION:2.0
CALSCALE:GREGORIAN
METHOD:PUBLISH
X-WR-TIMEZONE:UTC
BEGIN:VEVENT
SUMMARY:LAS NUEVAS REGLAS PARA EL CICLO DE VIDA LA AUTOMOCIÓN
DTSTART:20260522T073000Z
DTEND:20260522T110000Z
DTSTAMP:20260420T010254Z
UID:https://entradas.biocultura.org/lasnuevasreglasparaelciclodevidalaauto
 mocion
CATEGORIES:
DESCRIPTION:https://entradas.biocultura.org/lasnuevasreglasparaelciclodevi
 dalaautomocion
GEO:0.0;0.0
LOCATION:HOTEL ANTEQUERA HILLS Av. Alcalde José María González\, 29200\
 , Antequera\, ES
URL:https://entradas.biocultura.org/lasnuevasreglasparaelciclodevidalaauto
 mocion
END:VEVENT
END:VCALENDAR
