BEGIN:VCALENDAR
VERSION:2.0
CALSCALE:GREGORIAN
METHOD:PUBLISH
X-WR-TIMEZONE:UTC
BEGIN:VEVENT
SUMMARY:Jornada Mirades de la Fertilitat
DTSTART:20260507T153000Z
DTEND:20260507T183000Z
DTSTAMP:20260424T015515Z
UID:https://entradas.biocultura.org/jornadamiradesdelafertilitat
CATEGORIES:
DESCRIPTION:https://entradas.biocultura.org/jornadamiradesdelafertilitat
GEO:0.0;0.0
LOCATION:Escuela para la Vida C/ Bruniquer\, 42\, baixos  08006 Barcelona\
 , 08006\, Barcelona\, ES
URL:https://entradas.biocultura.org/jornadamiradesdelafertilitat
END:VEVENT
END:VCALENDAR
