BEGIN:VCALENDAR
VERSION:2.0
CALSCALE:GREGORIAN
METHOD:PUBLISH
X-WR-TIMEZONE:UTC
BEGIN:VEVENT
SUMMARY:Estructura el teu equip per creixer
DTSTART:20260512T103000Z
DTEND:20260512T113000Z
DTSTAMP:20260424T014406Z
UID:https://entradas.biocultura.org/estructuraelteuequippercreixer
CATEGORIES:
DESCRIPTION:https://entradas.biocultura.org/estructuraelteuequippercreixer
GEO:0.0;0.0
URL:https://entradas.biocultura.org/estructuraelteuequippercreixer
END:VEVENT
END:VCALENDAR
