BEGIN:VCALENDAR
VERSION:2.0
CALSCALE:GREGORIAN
METHOD:PUBLISH
X-WR-TIMEZONE:UTC
BEGIN:VEVENT
SUMMARY:Curso de especialización en Logística Inteligente y Tecnologías
  Aplicadas - Del 21 de abril al 16 de junio 2026
DTSTART:20260421T080000Z
DTEND:20260616T120000Z
DTSTAMP:20260425T221543Z
UID:https://entradas.biocultura.org/cursodeespecializacionenlogisticaintel
 igenteytecnologiasaplicadasdel21deabrilal16dejunio2026
CATEGORIES:
DESCRIPTION:https://entradas.biocultura.org/cursodeespecializacionenlogist
 icainteligenteytecnologiasaplicadasdel21deabrilal16dejunio2026
GEO:0.0;0.0
URL:https://entradas.biocultura.org/cursodeespecializacionenlogisticaintel
 igenteytecnologiasaplicadasdel21deabrilal16dejunio2026
END:VEVENT
END:VCALENDAR
