BEGIN:VCALENDAR
VERSION:2.0
CALSCALE:GREGORIAN
METHOD:PUBLISH
X-WR-TIMEZONE:UTC
BEGIN:VEVENT
SUMMARY:Cafè Europa | La caiguda d'Orbán: un canvi real per a Brussel·l
 es?
DTSTART:20260424T070000Z
DTEND:20260424T080000Z
DTSTAMP:20260419T192604Z
UID:https://entradas.biocultura.org/cafeeuropalacaigudadorbanuncanvirealpe
 rabrusselles
CATEGORIES:
DESCRIPTION:https://entradas.biocultura.org/cafeeuropalacaigudadorbanuncan
 virealperabrusselles
GEO:0.0;0.0
URL:https://entradas.biocultura.org/cafeeuropalacaigudadorbanuncanvirealpe
 rabrusselles
END:VEVENT
END:VCALENDAR
